BEGIN:VCALENDAR
VERSION:2.0
PRODID:-//Creative Dezigns - ECPv6.15.20//NONSGML v1.0//EN
CALSCALE:GREGORIAN
METHOD:PUBLISH
X-ORIGINAL-URL:https://creativedezigns.ca
X-WR-CALDESC:Events for Creative Dezigns
REFRESH-INTERVAL;VALUE=DURATION:PT1H
X-Robots-Tag:noindex
X-PUBLISHED-TTL:PT1H
BEGIN:VTIMEZONE
TZID:America/Vancouver
BEGIN:DAYLIGHT
TZOFFSETFROM:-0800
TZOFFSETTO:-0700
TZNAME:PDT
DTSTART:20250309T100000
END:DAYLIGHT
BEGIN:STANDARD
TZOFFSETFROM:-0700
TZOFFSETTO:-0800
TZNAME:PST
DTSTART:20251102T090000
END:STANDARD
BEGIN:DAYLIGHT
TZOFFSETFROM:-0800
TZOFFSETTO:-0700
TZNAME:PDT
DTSTART:20260308T100000
END:DAYLIGHT
BEGIN:STANDARD
TZOFFSETFROM:-0700
TZOFFSETTO:-0800
TZNAME:PST
DTSTART:20261101T090000
END:STANDARD
BEGIN:DAYLIGHT
TZOFFSETFROM:-0800
TZOFFSETTO:-0700
TZNAME:PDT
DTSTART:20270314T100000
END:DAYLIGHT
BEGIN:STANDARD
TZOFFSETFROM:-0700
TZOFFSETTO:-0800
TZNAME:PST
DTSTART:20271107T090000
END:STANDARD
END:VTIMEZONE
BEGIN:VEVENT
DTSTART;VALUE=DATE:20260327
DTEND;VALUE=DATE:20260403
DTSTAMP:20260421T144547
CREATED:20260201T105409Z
LAST-MODIFIED:20260207T162227Z
UID:5324-1774569600-1775174399@creativedezigns.ca
SUMMARY:Federation of Canadian Artists - March 27th til April 2nd 2026\,
DESCRIPTION:Exhibition Details: As winter yields to spring\, our artists turn their attention to ‘transition’. Through moments\, places\, and perspectives where change becomes visible\, they explore the shifting world around us. Ranging from bold abstraction to finely rendered photo realism\, this exhibition celebrates movement\, possibility\, and the art of becoming. Visit the gallery to experience the work\, and to catch a live demonstration by one of the artists. \n\nDates: March 27th – April 2\, 2026\nHours: 10.00am til 4.00pm (7 days a week)\n\nOpening reception March 28th from 1.00pm til 3.00pm. All our welcome.\n\nWebsite: victoriafca.ca
URL:https://creativedezigns.ca/event/victoria-fca-spring-show-2026/
LOCATION:Art Sea Gallery\, 9565 5th St\, Sidney\, Sidney\, BC\, Canada
ATTACH;FMTTYPE=image/jpeg:https://creativedezigns.ca/wp-content/uploads/2026/02/FCA-Sprin-Exhibition.jpg
END:VEVENT
BEGIN:VEVENT
DTSTART;VALUE=DATE:20260413
DTEND;VALUE=DATE:20260514
DTSTAMP:20260421T144547
CREATED:20260413T080042Z
LAST-MODIFIED:20260413T140230Z
UID:5380-1776038400-1778716799@creativedezigns.ca
SUMMARY:Featured Gallery at Township Coffee Company
DESCRIPTION:Exhibition Details: Township coffee Co. Art Show\, featuring Pams Art \nTownship Coffee Co. is a cozy coffee shop located in the Saanich area. It specializes in locally sourced coffee\, baked goods\, and light snacks\, with a strong emphasis on community connection and quality ingredients.  Come have a cuppa and browse some of Pam’s artwork.  \n\nDates: Feb and March 2026\nHours: 10:00am til 3.00pm (7 days a week)
URL:https://creativedezigns.ca/event/township-coffee-company/
LOCATION:Township Coffee Company\, 106-4343 Tyndall Ave\, Saanich\, BC\, V8N 5R9  \, Canada
ATTACH;FMTTYPE=image/png:https://creativedezigns.ca/wp-content/uploads/2026/02/Art-and-coffee.png
END:VEVENT
END:VCALENDAR